BEGIN:VCALENDAR
VERSION:2.0
PRODID:-//ChamberMaster//Event Calendar 2.0//EN
METHOD:PUBLISH
X-PUBLISHED-TTL:P3D
REFRESH-INTERVAL:P3D
CALSCALE:GREGORIAN
BEGIN:VEVENT
DTSTART:20151017T030000Z
DTEND:20151016T070000Z
X-MICROSOFT-CDO-ALLDAYEVENT:FALSE
SUMMARY:OLIVIA NEWTON-JOHN
DESCRIPTION:With more than 100 million albums sold\, Olivia Newton-John’s successes include four Grammys\, numerous Country Music\, American Music and Peoples Choice Awards\, an Emmy Award\, ten #1 hits and 15 top 10 singles. In 1978\, her co-starring role with John Travolta in “Grease” catapulted Olivia into super-stardom and to date remains the most successful movie musical of all time. Olivia’s appeal seems to be timeless. With a career spanning more than four decades she is still a vibrant\, creative individual adored by fans across the world.\nContact :	Gallo Center\nPhone :	209-338-2100\nEmail :	\nWeb Site :	galloarts.org
X-ALT-DESC;FMTTYPE=text/html:With more than 100 million albums sold\, Olivia Newton-John’s successes include four Grammys\, numerous Country Music\, American Music and Peoples Choice Awards\, an Emmy Award\, ten #1 hits and 15 top 10 singles. In 1978\, her co-starring role with John Travolta in “Grease” catapulted Olivia into super-stardom and to date remains the most successful movie musical of all time. Olivia’s appeal seems to be timeless. With a career spanning more than four decades she is still a vibrant\, creative individual adored by fans across the world.\nContact :	Gallo Center\nPhone :	209-338-2100\nEmail :	\nWeb Site :	galloarts.org
LOCATION:Gallo Center 1000 I St Modesto\, CA 95354
UID:e.2695.1227
SEQUENCE:3
DTSTAMP:20260419T214450Z
URL:https://business.modchamber.org/events/details/olivia-newton-john-10-16-2015-1227
END:VEVENT

END:VCALENDAR
