BEGIN:VCALENDAR
VERSION:2.0
PRODID:-//ChamberMaster//Event Calendar 2.0//EN
METHOD:PUBLISH
X-PUBLISHED-TTL:P3D
REFRESH-INTERVAL:P3D
CALSCALE:GREGORIAN
BEGIN:VEVENT
DTSTART:20141004T003000Z
DTEND:20141004T050000Z
X-MICROSOFT-CDO-ALLDAYEVENT:FALSE
SUMMARY:Oktoberfest 2014
DESCRIPTION:Over thirty years in the making\, Oktoberfest is one of the community’s most eagerly anticipated events. A micro-brew extravaganza\, Oktoberfest draws 2\,000 attendees who sample and savor micro-brews from throughout the West Coast. Oktoberfest has added California wine tasting and a plethora of non-alcoholic drinks. The evening’s fare includes authentic German bratwurst cooked over an outdoor BBQ\, potato salad and sauerkraut. Enjoy live entertainment and exciting midway games to round out the evening. Showcase your business at vendor booths that are easily accessible for guests. Take advantage of the many sponsorship levels or let us work with you to create something different. This is one of our most flexible and largest draw events. \n\nAll tickets purchased online can be picked-up in advance at the Modesto Chamber of Commerce office Monday – Friday 8:30 AM – 5:00 PM.  Tickets that have been purchased online and not picked-up prior to the event will be at the Will Call desk when the event opens at the East Gate/Third Base entrance. The Will Call desk will open at 5:00 PM
X-ALT-DESC;FMTTYPE=text/html:Over thirty years in the making\, Oktoberfest is one of the community’s most eagerly anticipated events. A micro-brew extravaganza\, Oktoberfest draws 2\,000 attendees who sample and savor micro-brews from throughout the West Coast. Oktoberfest has added California wine tasting and a plethora of non-alcoholic drinks. The evening’s fare includes authentic German bratwurst cooked over an outdoor BBQ\, potato salad and sauerkraut. Enjoy live entertainment and exciting midway games to round out the evening. Showcase your business at vendor booths that are easily accessible for guests. Take advantage of the many sponsorship levels or let us work with you to create something different. This is one of our most flexible and largest draw events. \n\nAll tickets purchased online can be picked-up in advance at the Modesto Chamber of Commerce office Monday – Friday 8:30 AM – 5:00 PM.  Tickets that have been purchased online and not picked-up prior to the event will be at the Will Call desk when the event opens at the East Gate/Third Base entrance. The Will Call desk will open at 5:00 PM\n\n\n
LOCATION:John Thurman Field 601 Neece Drive Modesto\, CA 95351
UID:e.2695.472
SEQUENCE:3
DTSTAMP:20260422T180047Z
URL:https://business.modchamber.org/events/details/oktoberfest-2014-10-03-2014-472
END:VEVENT

END:VCALENDAR
