BEGIN:VCALENDAR
VERSION:2.0
PRODID:-//ChamberMaster//Event Calendar 2.0//EN
METHOD:PUBLISH
X-PUBLISHED-TTL:P3D
REFRESH-INTERVAL:P3D
CALSCALE:GREGORIAN
BEGIN:VEVENT
DTSTART:20150613T020000Z
DTEND:20150612T070000Z
X-MICROSOFT-CDO-ALLDAYEVENT:FALSE
SUMMARY:Official Kiwanis Classic Car Parade
DESCRIPTION:The route will start in downtown and will go down McHenry Ave. to Orangeburg & back to downtown. The parade will feature close to a thousand classic cars\, hot rods & street rods starting at 7:00pm. You do not want to miss this amazing event
X-ALT-DESC;FMTTYPE=text/html:<DIV style="FONT-FAMILY: Arial"><SPAN style="DISPLAY: inline! important\; FLOAT: none\; WORD-SPACING: 0px\; FONT: 11px/16px Arial\, Helvetica\, sans-serif\; TEXT-TRANSFORM: none\; COLOR: rgb(51\,51\,51)\; TEXT-INDENT: 0px\; WHITE-SPACE: normal\; LETTER-SPACING: normal\; BACKGROUND-COLOR: rgb(99\,124\,183)\; orphans: auto\; widows: auto\; -webkit-text-stroke-width: 0px"><FONT style="BACKGROUND-COLOR: #ffffff" size=4><STRONG>The route will start in downtown and will go down McHenry Ave. to Orangeburg &amp\; back to downtown. The parade will feature close to a thousand classic cars\, hot rods &amp\; street rods starting at 7:00pm. You do not want to miss this amazing event</STRONG></FONT></SPAN></DIV>
LOCATION:
UID:e.2695.497
SEQUENCE:3
DTSTAMP:20260420T045509Z
URL:https://business.modchamber.org/events/details/official-kiwanis-classic-car-parade-06-12-2015-497
END:VEVENT

END:VCALENDAR
