BEGIN:VCALENDAR
VERSION:2.0
PRODID:-//ChamberMaster//Event Calendar 2.0//EN
METHOD:PUBLISH
X-PUBLISHED-TTL:P3D
REFRESH-INTERVAL:P3D
CALSCALE:GREGORIAN
BEGIN:VEVENT
DTSTART:20160228T220000Z
DTEND:20160228T080000Z
X-MICROSOFT-CDO-ALLDAYEVENT:FALSE
SUMMARY:OF WARDROBES AND RINGS
DESCRIPTION:OF WARDROBES AND RINGS\nA Conversation with Lewis and Tolkien\n\nIt is October 1963. Two lions of British literature\, C.S. Lewis and J.R.R. Tolkien\, have been friends for decades but the relationship had cooled over the last few years. Now\, in the autumn of their lives\, they have one last conversation and discuss the explosive issues that have driven them apart and search for a way to mend their friendship. This is an intimate look at two of the most famous fantasy authors of the last century\, and a redemptive story of friendship that passes the test of time. Actors David Payne and Phil Crowley bring Tolkien and Lewis to life\, respectively.\nContact :	Gallo Center\nPhone :	209-338-2100\nEmail :	\nWeb Site :	galloarts.org
X-ALT-DESC;FMTTYPE=text/html:OF WARDROBES AND RINGS\nA Conversation with Lewis and Tolkien\n\nIt is October 1963. Two lions of British literature\, C.S. Lewis and J.R.R. Tolkien\, have been friends for decades but the relationship had cooled over the last few years. Now\, in the autumn of their lives\, they have one last conversation and discuss the explosive issues that have driven them apart and search for a way to mend their friendship. This is an intimate look at two of the most famous fantasy authors of the last century\, and a redemptive story of friendship that passes the test of time. Actors David Payne and Phil Crowley bring Tolkien and Lewis to life\, respectively.\nContact :	Gallo Center\nPhone :	209-338-2100\nEmail :	\nWeb Site :	galloarts.org
LOCATION:Gallo Center 1000 I Street Modesto\, CA 95354
UID:e.2695.1432
SEQUENCE:3
DTSTAMP:20260419T164727Z
URL:https://business.modchamber.org/events/details/of-wardrobes-and-rings-02-28-2016-1432
END:VEVENT

END:VCALENDAR
