BEGIN:VCALENDAR
VERSION:2.0
PRODID:-//ChamberMaster//Event Calendar 2.0//EN
METHOD:PUBLISH
X-PUBLISHED-TTL:P3D
REFRESH-INTERVAL:P3D
CALSCALE:GREGORIAN
BEGIN:VEVENT
DTSTART:20160101T030000Z
DTEND:20151231T080000Z
X-MICROSOFT-CDO-ALLDAYEVENT:FALSE
SUMMARY:NYE Remix Party - Party through the eras!
DESCRIPTION:The Doubletree Hotel will join forces with KHOP\, KAT COUNTRY and THE HAWK to rock the house. The evening will be hosted by MoJoe Roberts and we will include three themed rooms with over 13\,000 sq. ft. of party space.\nContact :	Doubletree Hotel\nPhone :	209-526-6000\nEmail :	\nWeb Site :	www.doubletreemodesto.com
X-ALT-DESC;FMTTYPE=text/html:The Doubletree Hotel will join forces with KHOP\, KAT COUNTRY and THE HAWK to rock the house. The evening will be hosted by MoJoe Roberts and we will include three themed rooms with over 13\,000 sq. ft. of party space.\nContact :	Doubletree Hotel\nPhone :	209-526-6000\nEmail :	\nWeb Site :	www.doubletreemodesto.com\n
LOCATION:Doubletree Hotel 1150 9th St Modesto\, CA 95354
UID:e.2695.1334
SEQUENCE:3
DTSTAMP:20260419T191121Z
URL:https://business.modchamber.org/events/details/nye-remix-party-party-through-the-eras-12-31-2015-1334
END:VEVENT

END:VCALENDAR
