BEGIN:VCALENDAR
VERSION:2.0
PRODID:-//ChamberMaster//Event Calendar 2.0//EN
METHOD:PUBLISH
X-PUBLISHED-TTL:P3D
REFRESH-INTERVAL:P3D
CALSCALE:GREGORIAN
BEGIN:VEVENT
DTSTART:20160101T040000Z
DTEND:20151231T080000Z
X-MICROSOFT-CDO-ALLDAYEVENT:FALSE
SUMMARY:NYE Experience 2016!
DESCRIPTION:Modesto's Largest New Years Eve Bash with 1500 adult party guests\, 3 rooms of top notch entertainment!\n\nThis year we will give you an amazing Experience with 3 rooms of excitement!\n\nFeaturing: \n• 3 live DJ's Including DJ Tease & DJ Monstermack of 97.7 / 98.3 KWIN.\n• Exclusive VIP area\,\, World of Laughs Comedy Room with renowned Stand-up Comedians.\n• Live Band Room Featuring Valley Rhythm Section.\n• Mega 100 Jammin' Old School Party and Singles Mingle Special room.\n• Festive Masquerade Masks & Party Favors for every guest.\n• Dinner (VIP) Party Packages @ DoubleTree by Hilton Modesto\nAnd many more Surprises...\n\nThis is a 21 & over Black Tie Event\, Masquerade attire is more than welcomed.\nContact :	\nPhone :	(209) 312-9038\nEmail :	\nWeb Site :	www.nye209.com
X-ALT-DESC;FMTTYPE=text/html:Modesto's Largest New Years Eve Bash with 1500 adult party guests\, 3 rooms of top notch entertainment!\n\nThis year we will give you an amazing Experience with 3 rooms of excitement!\n\nFeaturing: \n• 3 live DJ's Including DJ Tease & DJ Monstermack of 97.7 / 98.3 KWIN.\n• Exclusive VIP area\,\, World of Laughs Comedy Room with renowned Stand-up Comedians.\n• Live Band Room Featuring Valley Rhythm Section.\n• Mega 100 Jammin' Old School Party and Singles Mingle Special room.\n• Festive Masquerade Masks & Party Favors for every guest.\n• Dinner (VIP) Party Packages @ DoubleTree by Hilton Modesto\nAnd many more Surprises...\n\nThis is a 21 & over Black Tie Event\, Masquerade attire is more than welcomed.\nContact :	\nPhone :	(209) 312-9038\nEmail :	\nWeb Site :	www.nye209.com\n
LOCATION:Centre Plaza 1000 L St Modesto\, CA 95354
UID:e.2695.1332
SEQUENCE:3
DTSTAMP:20260419T190502Z
URL:https://business.modchamber.org/events/details/nye-experience-2016-12-31-2015-1332
END:VEVENT

END:VCALENDAR
