BEGIN:VCALENDAR
VERSION:2.0
PRODID:-//ChamberMaster//Event Calendar 2.0//EN
METHOD:PUBLISH
X-PUBLISHED-TTL:P3D
REFRESH-INTERVAL:P3D
CALSCALE:GREGORIAN
BEGIN:VEVENT
DTSTART:20141019T000000Z
DTEND:20141019T063000Z
X-MICROSOFT-CDO-ALLDAYEVENT:FALSE
SUMMARY:Northern California Women's Music Festival Concert
DESCRIPTION:Please join us for the Northern California Women's Music Festival Concert.  Tickets are on sale now and can be purchased at the Modesto Chamber of Commerce for $10.00  More information at www.northcaliforniawomensmusicfestival.com
X-ALT-DESC;FMTTYPE=text/html:<DIV style="FONT-FAMILY: Arial">Please join us for the Northern California Women's Music Festival&nbsp\;Concert. </DIV><DIV style="FONT-FAMILY: Arial">&nbsp\;</DIV><DIV style="FONT-FAMILY: Arial">Tickets are on sale now and can be purchased at the Modesto Chamber of Commerce for $10.00 </DIV><DIV style="FONT-FAMILY: Arial">&nbsp\;</DIV><DIV style="FONT-FAMILY: Arial">More information at <A href="http://www.northcaliforniawomensmusicfestival.com">www.northcaliforniawomensmusicfestival.com</A></DIV><DIV style="FONT-FAMILY: Arial">&nbsp\;</DIV><DIV style="FONT-FAMILY: Arial">&nbsp\;</DIV><DIV style="FONT-FAMILY: Arial">&nbsp\;</DIV>
LOCATION:Prospect Theater 1214 K Street Modesto\, CA 95354
UID:e.2695.553
SEQUENCE:3
DTSTAMP:20260422T165312Z
URL:https://business.modchamber.org/events/details/northern-california-women-s-music-festival-concert-10-18-2014-553
END:VEVENT

END:VCALENDAR
