BEGIN:VCALENDAR
VERSION:2.0
PRODID:-//ChamberMaster//Event Calendar 2.0//EN
METHOD:PUBLISH
X-PUBLISHED-TTL:P3D
REFRESH-INTERVAL:P3D
CALSCALE:GREGORIAN
BEGIN:VEVENT
DTSTART;VALUE=DATE:20151023
DTEND;VALUE=DATE:20151025
TRANSP:TRANSPARENT
X-MICROSOFT-CDO-ALLDAYEVENT:TRUE
SUMMARY:Northern California Women's Music Festival
DESCRIPTION:This years festival will be at the Fat Cat in Modesto California. Modesto is located in the heart of the San Joaquin Valley. Modesto is considered the "cultural hub" of the Central Valley. The festival is a celebration of Women in Music\, Art\, Literature\, Poetry\, and Business. There will be local vendors\, musicians\, artists\, and poets who will be included in the line up.\n\nSeveral stages will be outside on 11th Street\, in the Barking Dog Grill and inside Fat Cat\n\nOct. 23 - 5:00pm - 11:00pm\nOct. 24 - 10:00pm - 11:00pm\nContact :	Northern California Women's Festival\nPhone :	\nEmail :	\nWeb Site :	www.northerncaliforniawomensmusicfestival.com
X-ALT-DESC;FMTTYPE=text/html:	This years festival will be at the Fat Cat in Modesto California. Modesto is located in the heart of the San Joaquin Valley. Modesto is considered the "cultural hub" of the Central Valley. The festival is a celebration of Women in Music\, Art\, Literature\, Poetry\, and Business. There will be local vendors\, musicians\, artists\, and poets who will be included in the line up.\n\nSeveral stages will be outside on 11th Street\, in the Barking Dog Grill and inside Fat Cat\n\nOct. 23 - 5:00pm - 11:00pm\nOct. 24 - 10:00pm - 11:00pm\nContact :	Northern California Women's Festival\nPhone :	\nEmail :	\nWeb Site :	www.northerncaliforniawomensmusicfestival.com\n
LOCATION:Fat Cat Music House & Lounge 930 11th St Modesto\, CA 95354
UID:e.2695.1102
SEQUENCE:3
DTSTAMP:20260419T214924Z
URL:https://business.modchamber.org/events/details/northern-california-women-s-music-festival-10-23-2015-1102
END:VEVENT

END:VCALENDAR
