BEGIN:VCALENDAR
VERSION:2.0
PRODID:-//ChamberMaster//Event Calendar 2.0//EN
METHOD:PUBLISH
X-PUBLISHED-TTL:P3D
REFRESH-INTERVAL:P3D
CALSCALE:GREGORIAN
BEGIN:VEVENT
DTSTART:20160501T180000Z
DTEND:20160502T000000Z
X-MICROSOFT-CDO-ALLDAYEVENT:FALSE
SUMMARY:North Modesto Kiwanis Chicken A-Go-Go
DESCRIPTION:The North Modesto Kiwanis have been holding this famous Chicken Barbecue for fund raising for over 40 years. The meal includes a generous serving of delicious chicken\, beans\, salad\, and a roll. You can come “drive-thru” and pick up your dinner at Davis Park\, 2701 College Ave (near Davis High School). For tickets contact your local Kiwanian or call the Modesto Convention & Visitors Bureau at 209-526-5588\nContact : 	Modesto Convention & Visitors Bureau\nPhone : 	209-526-5588\nEmail : 	\nWeb Site :
X-ALT-DESC;FMTTYPE=text/html:	The North Modesto Kiwanis have been holding this famous Chicken Barbecue for fund raising for over 40 years. The meal includes a generous serving of delicious chicken\, beans\, salad\, and a roll. You can come “drive-thru” and pick up your dinner at Davis Park\, 2701 College Ave (near Davis High School). For tickets contact your local Kiwanian or call the Modesto Convention & Visitors Bureau at 209-526-5588\nContact : 	Modesto Convention & Visitors Bureau\nPhone : 	209-526-5588\nEmail : 	\nWeb Site : 	\n\n
LOCATION:Davis Park 2701 College Ave Modesto\, CA 95350
UID:e.2695.1634
SEQUENCE:3
DTSTAMP:20260419T125008Z
URL:https://business.modchamber.org/events/details/north-modesto-kiwanis-chicken-a-go-go-05-01-2016-1634
END:VEVENT

END:VCALENDAR
