BEGIN:VCALENDAR
VERSION:2.0
PRODID:-//ChamberMaster//Event Calendar 2.0//EN
METHOD:PUBLISH
X-PUBLISHED-TTL:P3D
REFRESH-INTERVAL:P3D
CALSCALE:GREGORIAN
BEGIN:VEVENT
DTSTART:20151216T013000Z
DTEND:20151215T080000Z
X-MICROSOFT-CDO-ALLDAYEVENT:FALSE
SUMMARY:No Meeting cancelled per mmc2-1.01
DESCRIPTION:
X-ALT-DESC;FMTTYPE=text/html:
LOCATION:Chambers\, Basement Level Tenth Street Place 1010 10th Street Modesto\, CA 95354
UID:e.2695.763
SEQUENCE:3
DTSTAMP:20260419T191140Z
URL:https://business.modchamber.org/events/details/no-meeting-cancelled-per-mmc2-1-01-12-15-2015-763
END:VEVENT

END:VCALENDAR
