BEGIN:VCALENDAR
VERSION:2.0
PRODID:-//ChamberMaster//Event Calendar 2.0//EN
METHOD:PUBLISH
X-PUBLISHED-TTL:P3D
REFRESH-INTERVAL:P3D
CALSCALE:GREGORIAN
BEGIN:VEVENT
DTSTART:20150617T003000Z
DTEND:20150616T070000Z
X-MICROSOFT-CDO-ALLDAYEVENT:FALSE
SUMMARY:No Meeting
DESCRIPTION:
X-ALT-DESC;FMTTYPE=text/html:
LOCATION:Chambers\, Basement Level Tenth Street Place 1010 10th Street Modesto\, CA 95354
UID:e.2695.252
SEQUENCE:3
DTSTAMP:20260420T031511Z
URL:https://business.modchamber.org/events/details/no-meeting-06-16-2015-252
END:VEVENT

END:VCALENDAR
