BEGIN:VCALENDAR
VERSION:2.0
PRODID:-//ChamberMaster//Event Calendar 2.0//EN
METHOD:PUBLISH
X-PUBLISHED-TTL:P3D
REFRESH-INTERVAL:P3D
CALSCALE:GREGORIAN
BEGIN:VEVENT
DTSTART;VALUE=DATE:20150407
DTEND;VALUE=DATE:20150408
TRANSP:TRANSPARENT
X-MICROSOFT-CDO-ALLDAYEVENT:TRUE
SUMMARY:No Meeting
DESCRIPTION:
X-ALT-DESC;FMTTYPE=text/html:
LOCATION:Board Chambers - Basement Level 1010 10th Street Modesto\, CA 95354
UID:e.2695.696
SEQUENCE:3
DTSTAMP:20260420T062727Z
URL:https://business.modchamber.org/events/details/no-meeting-04-07-2015-696
END:VEVENT

END:VCALENDAR
