BEGIN:VCALENDAR
VERSION:2.0
PRODID:-//ChamberMaster//Event Calendar 2.0//EN
METHOD:PUBLISH
X-PUBLISHED-TTL:P3D
REFRESH-INTERVAL:P3D
CALSCALE:GREGORIAN
BEGIN:VEVENT
DTSTART:20140113T180000Z
DTEND:20140113T190000Z
X-MICROSOFT-CDO-ALLDAYEVENT:FALSE
SUMMARY:New Member Orientation
DESCRIPTION:New Member Orientation is designed to give our members the tools they need to make the most of their Chamber membership.  New members are encouraged to come and learn about the various programs\, privileges and opportunities of membership. There will also be a tutorial on how to navigate through our newly upgraded website\, as you now have the ability to update and make changes to your own information via the Chamber website.\n\nWe look forward to having you join us for a light continental breakfast and engaging discussions. These seminars will full up fast\, so please send your RSVP to MLopez@ModChamber.org or (209) 577-5757.
X-ALT-DESC;FMTTYPE=text/html:New Member Orientation is designed to give our members the tools they need to make the most of their Chamber membership.  New members are encouraged to come and learn about the various programs\, privileges and opportunities of membership. There will also be a tutorial on how to navigate through our newly upgraded website\, as you now have the ability to update and make changes to your own information via the Chamber website.\n\nWe look forward to having you join us for a light continental breakfast and engaging discussions. These seminars will full up fast\, so please send your RSVP to MLopez@ModChamber.org or (209) 577-5757.
LOCATION:Modesto Chamber of Commerce 1114 J Street Modesto\, CA 95354
UID:e.2695.350
SEQUENCE:3
DTSTAMP:20260423T060614Z
URL:https://business.modchamber.org/events/details/new-member-orientation-01-13-2014-350
END:VEVENT

END:VCALENDAR
