BEGIN:VCALENDAR
VERSION:2.0
PRODID:-//ChamberMaster//Event Calendar 2.0//EN
METHOD:PUBLISH
X-PUBLISHED-TTL:P3D
REFRESH-INTERVAL:P3D
CALSCALE:GREGORIAN
BEGIN:VEVENT
DTSTART:20150822T020000Z
DTEND:20150821T070000Z
X-MICROSOFT-CDO-ALLDAYEVENT:FALSE
SUMMARY:Music in the Plaza
DESCRIPTION:Brenden Movie Theaters\, City of Modesto\, DID \, Modesto View\, Radio B93 & Fuzio's presents: Music in the Plaza\n\nFeatured Band: Mark & Brian (a father son duo)\nContact :	\nPhone :	209-529-9303
X-ALT-DESC;FMTTYPE=text/html:Brenden Movie Theaters\, City of Modesto\, DID \, Modesto View\, Radio B93 & Fuzio's presents: Music in the Plaza\n\nFeatured Band: Mark & Brian (a father son duo)\nContact :	\nPhone :	209-529-9303
LOCATION:10th Street Plaza 1010 10th St Modesto\, CA 95354
UID:e.2695.1164
SEQUENCE:3
DTSTAMP:20260420T003221Z
URL:https://business.modchamber.org/events/details/music-in-the-plaza-08-21-2015-1164
END:VEVENT

END:VCALENDAR
