BEGIN:VCALENDAR
VERSION:2.0
PRODID:-//ChamberMaster//Event Calendar 2.0//EN
METHOD:PUBLISH
X-PUBLISHED-TTL:P3D
REFRESH-INTERVAL:P3D
CALSCALE:GREGORIAN
BEGIN:VEVENT
DTSTART:20160403T020000Z
DTEND:20160402T070000Z
X-MICROSOFT-CDO-ALLDAYEVENT:FALSE
SUMMARY:MUM Fest 2016 - OPENING NIGHT
DESCRIPTION:Opening night party with Americana groups Faux Renwah\, Hannah Jane Kile and The Jespersons. 7 PM at The Portal\, 1324 Coldwell Ave. (across from MJC) - $10.\nContact : 	\nPhone : 	\nEmail : 	\nWeb Site : 	www.modestounplugged.com
X-ALT-DESC;FMTTYPE=text/html:	Opening night party with Americana groups Faux Renwah\, Hannah Jane Kile and The Jespersons. 7 PM at The Portal\, 1324 Coldwell Ave. (across from MJC) - $10.\nContact : 	\nPhone : 	\nEmail : 	\nWeb Site : 	www.modestounplugged.com\n\n
LOCATION:MJC\, East Campus 1324 Coldwell Ave Modesto\, CA 95350
UID:e.2695.1610
SEQUENCE:3
DTSTAMP:20260419T141053Z
URL:https://business.modchamber.org/events/details/mum-fest-2016-opening-night-04-02-2016-1610
END:VEVENT

END:VCALENDAR
