BEGIN:VCALENDAR
VERSION:2.0
PRODID:-//ChamberMaster//Event Calendar 2.0//EN
METHOD:PUBLISH
X-PUBLISHED-TTL:P3D
REFRESH-INTERVAL:P3D
CALSCALE:GREGORIAN
BEGIN:VEVENT
DTSTART:20160403T220000Z
DTEND:20160403T070000Z
X-MICROSOFT-CDO-ALLDAYEVENT:FALSE
SUMMARY:MUM-Fest 2016 - Bluegrass
DESCRIPTION:Bluegrass with AJ Lee Music and Jason & Ida Winfree. 3 PM at Center Stage Conservatory's Lower Level Studio (948 11th St.)\, $15.\nContact : 	\nPhone : 	\nEmail : 	\nWeb Site : 	www.modestounplugged.com
X-ALT-DESC;FMTTYPE=text/html:Bluegrass with AJ Lee Music and Jason & Ida Winfree. 3 PM at Center Stage Conservatory's Lower Level Studio (948 11th St.)\, $15.\nContact : 	\nPhone : 	\nEmail : 	\nWeb Site : 	www.modestounplugged.com\n\n
LOCATION:Center Stage Conservatory 948 11th Street Modesto\, CA 95354
UID:e.2695.1611
SEQUENCE:3
DTSTAMP:20260419T140931Z
URL:https://business.modchamber.org/events/details/mum-fest-2016-bluegrass-04-03-2016-1611
END:VEVENT

END:VCALENDAR
