BEGIN:VCALENDAR
VERSION:2.0
PRODID:-//ChamberMaster//Event Calendar 2.0//EN
METHOD:PUBLISH
X-PUBLISHED-TTL:P3D
REFRESH-INTERVAL:P3D
CALSCALE:GREGORIAN
BEGIN:VEVENT
DTSTART;VALUE=DATE:20160401
DTEND;VALUE=DATE:20160402
TRANSP:TRANSPARENT
X-MICROSOFT-CDO-ALLDAYEVENT:TRUE
SUMMARY:MUM-Fest 2016
DESCRIPTION:Modesto's premier acoustic festival marks its fifth year this spring! Since 2012\, we have been bringing fresh and inventive musical programming to downtown Modesto: Grammy-winning bluegrass veterans\, world-famous string ensembles\, unique sounds from around the globe\, and much more.\n\nFor our five-year anniversary celebration\, we have partnered with a few other amazing local concert presenters to fill downtown Modesto with stellar acoustic music throughout the entire month of April. Whether you dig folk & Americana\, soulful singer/songwriters\, country-rock\, world music\, blues\, or orchestral and operatic sounds\, MUMfest has something for you to enjoy.\n\nShowcases will be held in intimate listening venues all over the greater downtown area.\nContact :	\nPhone :	\nEmail :	\nWeb Site :	www.modestounplugged.com
X-ALT-DESC;FMTTYPE=text/html:Modesto's premier acoustic festival marks its fifth year this spring! Since 2012\, we have been bringing fresh and inventive musical programming to downtown Modesto: Grammy-winning bluegrass veterans\, world-famous string ensembles\, unique sounds from around the globe\, and much more.\n\nFor our five-year anniversary celebration\, we have partnered with a few other amazing local concert presenters to fill downtown Modesto with stellar acoustic music throughout the entire month of April. Whether you dig folk & Americana\, soulful singer/songwriters\, country-rock\, world music\, blues\, or orchestral and operatic sounds\, MUMfest has something for you to enjoy.\n\nShowcases will be held in intimate listening venues all over the greater downtown area.\nContact :	\nPhone :	\nEmail :	\nWeb Site :	www.modestounplugged.com\n
LOCATION:Varios Modesto Locations
UID:e.2695.1545
SEQUENCE:3
DTSTAMP:20260419T152452Z
URL:https://business.modchamber.org/events/details/mum-fest-2016-04-01-2016-1545
END:VEVENT

END:VCALENDAR
