BEGIN:VCALENDAR
VERSION:2.0
PRODID:-//ChamberMaster//Event Calendar 2.0//EN
METHOD:PUBLISH
X-PUBLISHED-TTL:P3D
REFRESH-INTERVAL:P3D
CALSCALE:GREGORIAN
BEGIN:VEVENT
DTSTART:20160206T220000Z
DTEND:20160206T080000Z
X-MICROSOFT-CDO-ALLDAYEVENT:FALSE
SUMMARY:MSYO - SPRING CONCERT
DESCRIPTION:MODESTO SYMPHONY YOUTH ORCHESTRA\n\nMSYO SPRING CONCERT\n\nRyan Murray\, conductor\nSymphony Orchestra\n\nDonald C. Grishaw\, conductor\nConcert Orchestra\n\nProgram\n\nSupport the talent of youth musicians in our community! Join the Modesto Symphony Youth Orchestra for their second concert of the season. The MSYO serves nearly 120 student musicians and their families from over forty public and private schools in the Central Valley.\nContact :	Gallo Center\nPhone :	209-338-2100\nEmail :	\nWeb Site :	galloarts.org
X-ALT-DESC;FMTTYPE=text/html:MODESTO SYMPHONY YOUTH ORCHESTRA\n\nMSYO SPRING CONCERT\n\nRyan Murray\, conductor\nSymphony Orchestra\n\nDonald C. Grishaw\, conductor\nConcert Orchestra\n\nProgram\n\nSupport the talent of youth musicians in our community! Join the Modesto Symphony Youth Orchestra for their second concert of the season. The MSYO serves nearly 120 student musicians and their families from over forty public and private schools in the Central Valley.\nContact :	Gallo Center\nPhone :	209-338-2100\nEmail :	\nWeb Site :	galloarts.org
LOCATION:Gallo Center 1000 I St Modesto\, CA 95354
UID:e.2695.1357
SEQUENCE:3
DTSTAMP:20260419T164321Z
URL:https://business.modchamber.org/events/details/msyo-spring-concert-02-06-2016-1357
END:VEVENT

END:VCALENDAR
