BEGIN:VCALENDAR
VERSION:2.0
PRODID:-//ChamberMaster//Event Calendar 2.0//EN
METHOD:PUBLISH
X-PUBLISHED-TTL:P3D
REFRESH-INTERVAL:P3D
CALSCALE:GREGORIAN
BEGIN:VEVENT
DTSTART:20160514T210000Z
DTEND:20160514T070000Z
X-MICROSOFT-CDO-ALLDAYEVENT:FALSE
SUMMARY:MSYO - FINALE CONCERT-Modesto Symphony Youth Orchestra
DESCRIPTION:MODESTO SYMPHONY YOUTH ORCHESTRA\n\nMSYO Season Finale Concert\n\nRyan Murray\, conductor\nSymphony Orchestra\n\nDonald C. Grishaw\, conductor\nConcert Orchestra\n\nFeaturing the 2015/16 MSYO Concerto Competition Winner\n\nProgram\n\nEnjoy an afternoon of orchestral fireworks and solo performances by some of the finest youth musicians in our community including our 2015/16 Concerto Competition winner. The Modesto Symphony Youth Orchestra serves nearly 120 student musicians and their families from over forty public and private schools in the Central Valley. Join them in the concert hall for an exciting finale to their 39th Season!\nContact :	Gallo Center\nPhone :	209-338-2100\nEmail :	\nWeb Site :	galloarts.org
X-ALT-DESC;FMTTYPE=text/html:MODESTO SYMPHONY YOUTH ORCHESTRA\n\nMSYO Season Finale Concert\n\nRyan Murray\, conductor\nSymphony Orchestra\n\nDonald C. Grishaw\, conductor\nConcert Orchestra\n\nFeaturing the 2015/16 MSYO Concerto Competition Winner\n\nProgram\n\nEnjoy an afternoon of orchestral fireworks and solo performances by some of the finest youth musicians in our community including our 2015/16 Concerto Competition winner. The Modesto Symphony Youth Orchestra serves nearly 120 student musicians and their families from over forty public and private schools in the Central Valley. Join them in the concert hall for an exciting finale to their 39th Season!\nContact :	Gallo Center\nPhone :	209-338-2100\nEmail :	\nWeb Site :	galloarts.org
LOCATION:Gallo Center 1000 I Street Modesto\, CA 95354
UID:e.2695.1499
SEQUENCE:3
DTSTAMP:20260419T125207Z
URL:https://business.modchamber.org/events/details/msyo-finale-concert-modesto-symphony-youth-orchestra-05-14-2016-1499
END:VEVENT

END:VCALENDAR
