BEGIN:VCALENDAR
VERSION:2.0
PRODID:-//ChamberMaster//Event Calendar 2.0//EN
METHOD:PUBLISH
X-PUBLISHED-TTL:P3D
REFRESH-INTERVAL:P3D
CALSCALE:GREGORIAN
BEGIN:VEVENT
DTSTART:20160207T040000Z
DTEND:20160206T080000Z
X-MICROSOFT-CDO-ALLDAYEVENT:FALSE
SUMMARY:MSO - MOZART & BACH
DESCRIPTION:CLASSICS SERIES\n\nMOZART & BACH\nwith a Haydn Surprise in the middle\n\nDavid Lockington\, conductor\nDan Flanagan\, MSO concertmaster\nJohanna Borenstein\, MSO principal flute\nDerek Tam\, harpsichord\nMSO Chorus with guest soloists\nDr. Daniel R. Afonso Jr.\, chorus director \n\nFeaturing Community Violinists – Winners of our Bach Double Competition\nJulien Alfaro\, Yunah Kim\, Dr. Calvin Lee\, Rodolfo Mendoza\, Leslie Neville\, Hayoung Oh\, Nathan Oh\, Miriam Waldvogel & Kane Wu\n\nProgram\nMozart · Symphony No. 7\nBach · Brandenburg Concerto No.5*\nHaydn · Surprise Symphony**\nBach · Cantata No. 4\nBach · Double Violin Concerto - Featuring Community Violinists\n\n* MSO Premiere\n** Played on the first MSO concert April 17\, 1931\n\nJoin us for an enchanted evening of memorable music from Mozart\, Bach and Haydn. Delight in the music of the Baroque era highlighting the harpsichord\, violin and flute\, our MSO Chorus with guest vocalists\, and Bach’s famous Double Violin Concerto featuring talented violinists from our community.\nContact :	Gallo Center\nPhone :	209-338-2100\nEmail :	\nWeb Site :	galloarts.org
X-ALT-DESC;FMTTYPE=text/html:CLASSICS SERIES\n\nMOZART & BACH\nwith a Haydn Surprise in the middle\n\nDavid Lockington\, conductor\nDan Flanagan\, MSO concertmaster\nJohanna Borenstein\, MSO principal flute\nDerek Tam\, harpsichord\nMSO Chorus with guest soloists\nDr. Daniel R. Afonso Jr.\, chorus director \n\nFeaturing Community Violinists – Winners of our Bach Double Competition\nJulien Alfaro\, Yunah Kim\, Dr. Calvin Lee\, Rodolfo Mendoza\, Leslie Neville\, Hayoung Oh\, Nathan Oh\, Miriam Waldvogel & Kane Wu\n\nProgram\nMozart · Symphony No. 7\nBach · Brandenburg Concerto No.5*\nHaydn · Surprise Symphony**\nBach · Cantata No. 4\nBach · Double Violin Concerto - Featuring Community Violinists\n\n* MSO Premiere\n** Played on the first MSO concert April 17\, 1931\n\nJoin us for an enchanted evening of memorable music from Mozart\, Bach and Haydn. Delight in the music of the Baroque era highlighting the harpsichord\, violin and flute\, our MSO Chorus with guest vocalists\, and Bach’s famous Double Violin Concerto featuring talented violinists from our community.\nContact :	Gallo Center\nPhone :	209-338-2100\nEmail :	\nWeb Site :	galloarts.org
LOCATION:Gallo Center 1000 I Street Modesto\, CA 95354
UID:e.2695.1444
SEQUENCE:3
DTSTAMP:20260419T164447Z
URL:https://business.modchamber.org/events/details/mso-mozart-bach-02-06-2016-1444
END:VEVENT

END:VCALENDAR
