BEGIN:VCALENDAR
VERSION:2.0
PRODID:-//ChamberMaster//Event Calendar 2.0//EN
METHOD:PUBLISH
X-PUBLISHED-TTL:P3D
REFRESH-INTERVAL:P3D
CALSCALE:GREGORIAN
BEGIN:VEVENT
DTSTART:20160515T030000Z
DTEND:20160514T070000Z
X-MICROSOFT-CDO-ALLDAYEVENT:FALSE
SUMMARY:MSO - MAHLER SYMPHONY NO. 2-Modesto Symphony Orchestra
DESCRIPTION:CLASSICS SERIES\n\nMahler Symphony No. 2: “RESURRECTION”\n\nDavid Lockington\, conductor\nAntonina Chehovska\, soprano\nCybele Gouverneur\, mezzo-soprano\n\nMSO Chorus\nDr. Daniel R. Afonso\, Jr.\, chorus director\nCSU Stanislaus Concert Chorale & Chamber Singers \nDr. Daniel R. Afonso\, Jr.\, chorus director\n\nProgram\n\nMahler · Symphony No. 2\, "Resurrection"\n\nThe Modesto Symphony wraps up the classic series with Mahler’s monumental Resurrection Symphony. This five movement work summons the full force of the orchestra and chorus to evoke the journey of life\, death\, and the afterlife through music. An auditory marvel\, this surround sound concert features an offstage ensemble of brass and percussion integrated into the audience leaving you in awe of Mahler’s most popular work.\n\n* No intermission\n\nMahler Symphony No. 2 - Finale\nSir Simon Rattle conducting the City of Birmingham Symphony Orchestra\nContact :	Gallo Center\nPhone :	209-338-2100\nEmail :	\nWeb Site :	galloarts.org
X-ALT-DESC;FMTTYPE=text/html:CLASSICS SERIES\n\nMahler Symphony No. 2: “RESURRECTION”\n\nDavid Lockington\, conductor\nAntonina Chehovska\, soprano\nCybele Gouverneur\, mezzo-soprano\n\nMSO Chorus\nDr. Daniel R. Afonso\, Jr.\, chorus director\nCSU Stanislaus Concert Chorale & Chamber Singers \nDr. Daniel R. Afonso\, Jr.\, chorus director\n\nProgram\n\nMahler · Symphony No. 2\, "Resurrection"\n\nThe Modesto Symphony wraps up the classic series with Mahler’s monumental Resurrection Symphony. This five movement work summons the full force of the orchestra and chorus to evoke the journey of life\, death\, and the afterlife through music. An auditory marvel\, this surround sound concert features an offstage ensemble of brass and percussion integrated into the audience leaving you in awe of Mahler’s most popular work.\n\n* No intermission\n\nMahler Symphony No. 2 - Finale\nSir Simon Rattle conducting the City of Birmingham Symphony Orchestra\nContact :	Gallo Center\nPhone :	209-338-2100\nEmail :	\nWeb Site :	galloarts.org
LOCATION:Gallo Center 1000 I St Modesto\, CA 95354
UID:e.2695.1498
SEQUENCE:3
DTSTAMP:20260419T141207Z
URL:https://business.modchamber.org/events/details/mso-mahler-symphony-no-2-modesto-symphony-orchestra-05-14-2016-1498
END:VEVENT

END:VCALENDAR
