BEGIN:VCALENDAR
VERSION:2.0
PRODID:-//ChamberMaster//Event Calendar 2.0//EN
METHOD:PUBLISH
X-PUBLISHED-TTL:P3D
REFRESH-INTERVAL:P3D
CALSCALE:GREGORIAN
BEGIN:VEVENT
DTSTART:20160312T040000Z
DTEND:20160311T080000Z
X-MICROSOFT-CDO-ALLDAYEVENT:FALSE
SUMMARY:MSO - GREAT AMERICAN SONGBOOK-Modesto Symphony Orchestra
DESCRIPTION:HILMAR CHEESE COMPANY POPS SERIES\n\nLarry Blank\, guest conductor\nSarah Uriarte Berry\, vocalist\nDoug LaBrecque\, vocalist\n\nProgram\n\nEnjoy an evening filled with some of the most loved American music from the 1920’s through the ’60s! You won’t want to miss a moment of your favorites from Broadway and Hollywood musicals\, including Artie Shaw’s Begin the Beguine\, Over the Rainbow\, and The Song is Youby the legendary Frank Sinatra. And of course — the music of Irving Berlin\, Cole Porter\, plus George and Ira Gershwin's I Got Rhythm!\nContact :	Gallo Center\nPhone :	209-338-2100\nEmail :	\nWeb Site :	galloarts.org
X-ALT-DESC;FMTTYPE=text/html:HILMAR CHEESE COMPANY POPS SERIES\n\nLarry Blank\, guest conductor\nSarah Uriarte Berry\, vocalist\nDoug LaBrecque\, vocalist\n\nProgram\n\nEnjoy an evening filled with some of the most loved American music from the 1920’s through the ’60s! You won’t want to miss a moment of your favorites from Broadway and Hollywood musicals\, including Artie Shaw’s Begin the Beguine\, Over the Rainbow\, and The Song is Youby the legendary Frank Sinatra. And of course — the music of Irving Berlin\, Cole Porter\, plus George and Ira Gershwin's I Got Rhythm!\nContact :	Gallo Center\nPhone :	209-338-2100\nEmail :	\nWeb Site :	galloarts.org
LOCATION:Gallo Center 1000 I Street Modesto\, CA 95354
UID:e.2695.1459
SEQUENCE:3
DTSTAMP:20260419T154546Z
URL:https://business.modchamber.org/events/details/mso-great-american-songbook-modesto-symphony-orchestra-03-11-2016-1459
END:VEVENT

END:VCALENDAR
