BEGIN:VCALENDAR
VERSION:2.0
PRODID:-//ChamberMaster//Event Calendar 2.0//EN
METHOD:PUBLISH
X-PUBLISHED-TTL:P3D
REFRESH-INTERVAL:P3D
CALSCALE:GREGORIAN
BEGIN:VEVENT
DTSTART:20160417T030000Z
DTEND:20160416T070000Z
X-MICROSOFT-CDO-ALLDAYEVENT:FALSE
SUMMARY:MSO - DVORAK SYMPHONY NO. 9-Modesto Symphony Orchestra
DESCRIPTION:CLASSICS SERIES\n\nDavid Lockington\, conductor\nAngelo Xiang Yu\, violin\nProgram\n\nMiller · Scherzo Crypto*\nSaint-Saëns · Violin Concerto No. 3\nDvorák · Symphony No. 9\n\nInternationally acclaimed guest violinist\, Angelo Xiang Yu\, performs Saint-Saëns’ powerful third violin concerto. Popularly known as the “New World Symphony” — Dvorák’s piece stands as an homage to America inspired by the rhythms of Native American music\, African American spirituals\, and the wide-open spaces. Beloved the world over\, a recording of the symphony accompanied Neil Armstrong and the crew of Apollo 11 as they set off to explore the new world of the lunar surface.\n\n* MSO Premiere\n\nDvorak Symphony No. 9 - Allegro con fuoco\nConducted by Gustavo Dudamel\nContact :	Gallo Center\nPhone :	209-338-2100\nEmail :	\nWeb Site :	galloarts.org
X-ALT-DESC;FMTTYPE=text/html:CLASSICS SERIES\n\nDavid Lockington\, conductor\nAngelo Xiang Yu\, violin\nProgram\n\nMiller · Scherzo Crypto*\nSaint-Saëns · Violin Concerto No. 3\nDvorák · Symphony No. 9\n\nInternationally acclaimed guest violinist\, Angelo Xiang Yu\, performs Saint-Saëns’ powerful third violin concerto. Popularly known as the “New World Symphony” — Dvorák’s piece stands as an homage to America inspired by the rhythms of Native American music\, African American spirituals\, and the wide-open spaces. Beloved the world over\, a recording of the symphony accompanied Neil Armstrong and the crew of Apollo 11 as they set off to explore the new world of the lunar surface.\n\n* MSO Premiere\n\nDvorak Symphony No. 9 - Allegro con fuoco\nConducted by Gustavo Dudamel\nContact :	Gallo Center\nPhone :	209-338-2100\nEmail :	\nWeb Site :	galloarts.org\n
LOCATION:Gallo Center 1000 I Street Modesto\, CA 95354
UID:e.2695.1482
SEQUENCE:3
DTSTAMP:20260419T152732Z
URL:https://business.modchamber.org/events/details/mso-dvorak-symphony-no-9-modesto-symphony-orchestra-04-16-2016-1482
END:VEVENT

END:VCALENDAR
