BEGIN:VCALENDAR
VERSION:2.0
PRODID:-//ChamberMaster//Event Calendar 2.0//EN
METHOD:PUBLISH
X-PUBLISHED-TTL:P3D
REFRESH-INTERVAL:P3D
CALSCALE:GREGORIAN
BEGIN:VEVENT
DTSTART:20160206T040000Z
DTEND:20160205T080000Z
X-MICROSOFT-CDO-ALLDAYEVENT:FALSE
SUMMARY:MSO - BACH DBL VIOLIN CONCERTO
DESCRIPTION:CLASSICS SERIES\n\nDavid Lockington\, conductor\nDan Flanagan\, MSO concertmaster\nJohanna Borenstein\, MSO principal flute\nDerek Tam\, harpsicord\nMSO Chorus and Soloists\nDr. Daniel R. Afonso\, Jr.\, chorus director\nCommunity Violinists\n\nProgram\n\nMozart · Symphony No. 7 in D Major\nBach · Brandenburg Concerto No. 5*\nHaydn · Symphony No. 94 in G Major\, Surprise Symphony: Andante‡\nBach · Cantata No. 4\nBach · Concerto for Two Violins in D minor (Featuring Community Violinists)\n\nEnvelop yourself in an intimate performance of the Baroque Era’s most memorable works by Bach & Haydn. Bach’s Double Concerto for violins will feature guest violinists from our surrounding community. Members of the Symphony Chorus take the stage for a stirring rendition of Bach’s Cantata No. 4. We will keep you on the edge of your seat as you await the surprise in Haydn’s Symphony and take in the splendor of the Brandenburg Concerto featuring our concertmaster\, Dan Flanagan.\n\n* MSO Premiere\n‡ Part of the program from the first MSO concert in 1931\n\nBach Concerto for 2 Violins in D minor\nFeaturing Arabella Steinbacher & Akiko Suwanai\nContact :	Gallo Center\nPhone :	209-338-2100\nEmail :	\nWeb Site :	galloarts.org
X-ALT-DESC;FMTTYPE=text/html:CLASSICS SERIES\n\nDavid Lockington\, conductor\nDan Flanagan\, MSO concertmaster\nJohanna Borenstein\, MSO principal flute\nDerek Tam\, harpsicord\nMSO Chorus and Soloists\nDr. Daniel R. Afonso\, Jr.\, chorus director\nCommunity Violinists\n\nProgram\n\nMozart · Symphony No. 7 in D Major\nBach · Brandenburg Concerto No. 5*\nHaydn · Symphony No. 94 in G Major\, Surprise Symphony: Andante‡\nBach · Cantata No. 4\nBach · Concerto for Two Violins in D minor (Featuring Community Violinists)\n\nEnvelop yourself in an intimate performance of the Baroque Era’s most memorable works by Bach & Haydn. Bach’s Double Concerto for violins will feature guest violinists from our surrounding community. Members of the Symphony Chorus take the stage for a stirring rendition of Bach’s Cantata No. 4. We will keep you on the edge of your seat as you await the surprise in Haydn’s Symphony and take in the splendor of the Brandenburg Concerto featuring our concertmaster\, Dan Flanagan.\n\n* MSO Premiere\n‡ Part of the program from the first MSO concert in 1931\n\nBach Concerto for 2 Violins in D minor\nFeaturing Arabella Steinbacher & Akiko Suwanai\nContact :	Gallo Center\nPhone :	209-338-2100\nEmail :	\nWeb Site :	galloarts.org
LOCATION:Gallo Center 1000 I St Modesto\, CA 95354
UID:e.2695.1355
SEQUENCE:3
DTSTAMP:20260419T164538Z
URL:https://business.modchamber.org/events/details/mso-bach-dbl-violin-concerto-02-05-2016-1355
END:VEVENT

END:VCALENDAR
