BEGIN:VCALENDAR
VERSION:2.0
PRODID:-//ChamberMaster//Event Calendar 2.0//EN
METHOD:PUBLISH
X-PUBLISHED-TTL:P3D
REFRESH-INTERVAL:P3D
CALSCALE:GREGORIAN
BEGIN:VEVENT
DTSTART:20160123T220000Z
DTEND:20160124T000000Z
X-MICROSOFT-CDO-ALLDAYEVENT:FALSE
SUMMARY:Motown Boogie Hip Hop Festival
DESCRIPTION:The City of Modesto Parks\, Recreation and Neighborhoods presents the “Motown Boogie Hip Hop Festival” Saturday\, January 23\, 2016 2:00-4:00 pm at the Maddux Youth Center\, 615 Sierra Drive\, Modesto.\nThis family-friendly event features high-energy break dance competitors competing in a 2-on-2 B-Boy and a 1-on-1 Popping contests for trophy awards. The day will also include an Urban Art Show\, Fashion Show\, B- Boy Showcase and features professional dancer Ivan “Urban Action Figure” Manriquez and D.J. Hocus Manriquez who will both be hosting this exciting event. And don't miss out on Ivan Manriquez's educational B-Boy Dancers Workshop.\n\nAdmission is $5.00 per-person and children under 12 free.\nContact :	Bruce Lockard\nPhone :	(209) 341-2951\nEmail :	blockard@modestogov.com\nWeb Site :
X-ALT-DESC;FMTTYPE=text/html:The City of Modesto Parks\, Recreation and Neighborhoods presents the “Motown Boogie Hip Hop Festival” Saturday\, January 23\, 2016 2:00-4:00 pm at the Maddux Youth Center\, 615 Sierra Drive\, Modesto.\nThis family-friendly event features high-energy break dance competitors competing in a 2-on-2 B-Boy and a 1-on-1 Popping contests for trophy awards. The day will also include an Urban Art Show\, Fashion Show\, B- Boy Showcase and features professional dancer Ivan “Urban Action Figure” Manriquez and D.J. Hocus Manriquez who will both be hosting this exciting event. And don't miss out on Ivan Manriquez's educational B-Boy Dancers Workshop.\n\nAdmission is $5.00 per-person and children under 12 free.\nContact :	Bruce Lockard\nPhone :	(209) 341-2951\nEmail :	blockard@modestogov.com\nWeb Site :	
LOCATION:Maddux Youth Center 615 Sierra Drive Modesto\, CA 95351
UID:e.2695.1425
SEQUENCE:3
DTSTAMP:20260419T175057Z
URL:https://business.modchamber.org/events/details/motown-boogie-hip-hop-festival-01-23-2016-1425
END:VEVENT

END:VCALENDAR
