BEGIN:VCALENDAR
VERSION:2.0
PRODID:-//ChamberMaster//Event Calendar 2.0//EN
METHOD:PUBLISH
X-PUBLISHED-TTL:P3D
REFRESH-INTERVAL:P3D
CALSCALE:GREGORIAN
BEGIN:VEVENT
DTSTART:20160508T170000Z
DTEND:20160508T220000Z
X-MICROSOFT-CDO-ALLDAYEVENT:FALSE
SUMMARY:Mothers Day Brunch
DESCRIPTION:"MOTHERS DAY CHAMPAGNE BRUNCH" \nReservations Suggested (209-846-0950) walk-ins welcome. \nTwo seating's  SUNDAY May 8\, at 10am & 12:00pm\n                      \nFull Brunch Buffet: Eggs Benedict\, Carved Ham\, Desserts\, \nChocolate Fountain\, Fresh Fruits Galore\, Salads\, and Pastries.\nFor $33.95\, includes complimentary Champagne & Mimosa.\n \nAdditional Full NO-HOST Bar Service available.\nLive background Music."
X-ALT-DESC;FMTTYPE=text/html:"MOTHERS DAY CHAMPAGNE BRUNCH" \nReservations Suggested (209-846-0950) walk-ins welcome. \nTwo seating's  SUNDAY May 8\, at 10am & 12:00pm\n                      \nFull Brunch Buffet: Eggs Benedict\, Carved Ham\, Desserts\, \nChocolate Fountain\, Fresh Fruits Galore\, Salads\, and Pastries.\nFor $33.95\, includes complimentary Champagne & Mimosa.\n \nAdditional Full NO-HOST Bar Service available.\nLive background Music."
LOCATION:Mchenry Event Center 945 Mchenry Avenue Modesto\, CA 95350
UID:e.2695.1687
SEQUENCE:3
DTSTAMP:20260419T124853Z
URL:https://business.modchamber.org/events/details/mothers-day-brunch-05-08-2016-1687
END:VEVENT

END:VCALENDAR
