BEGIN:VCALENDAR
VERSION:2.0
PRODID:-//ChamberMaster//Event Calendar 2.0//EN
METHOD:PUBLISH
X-PUBLISHED-TTL:P3D
REFRESH-INTERVAL:P3D
CALSCALE:GREGORIAN
BEGIN:VEVENT
DTSTART:20150509T183000Z
DTEND:20150509T210000Z
X-MICROSOFT-CDO-ALLDAYEVENT:FALSE
SUMMARY:Mother's Day Tea
DESCRIPTION:Treat someone special to Mothers’ Day Tea at the McHenry Mansion. \n\nTraditional tea sandwiches and desserts. Gift shop open for shopping.\n\nTour the completely restored 1883 McHenry Mansion\n\nReservations required at $30 per person. Call Janie at 522-1739 by May 2.\n\nProceeds benefit the McHenry Mansion Foundation\n\n\nContact :	McHenry Mansion - Janie\nPhone :	209-522-1739
X-ALT-DESC;FMTTYPE=text/html:	Treat someone special to Mothers’ Day Tea at the McHenry Mansion. \n\nTraditional tea sandwiches and desserts. Gift shop open for shopping.\n\nTour the completely restored 1883 McHenry Mansion\n\nReservations required at $30 per person. Call Janie at 522-1739 by May 2.\n\nProceeds benefit the McHenry Mansion Foundation\n\n\nContact :	McHenry Mansion - Janie\nPhone :	209-522-1739
LOCATION:McHenry Mansion 906 15th St Modesto\, CA 95354
UID:e.2695.929
SEQUENCE:3
DTSTAMP:20260420T045502Z
URL:https://business.modchamber.org/events/details/mother-s-day-tea-05-09-2015-929
END:VEVENT

END:VCALENDAR
