BEGIN:VCALENDAR
VERSION:2.0
PRODID:-//ChamberMaster//Event Calendar 2.0//EN
METHOD:PUBLISH
X-PUBLISHED-TTL:P3D
REFRESH-INTERVAL:P3D
CALSCALE:GREGORIAN
BEGIN:VEVENT
DTSTART:20151019T020000Z
DTEND:20151018T070000Z
X-MICROSOFT-CDO-ALLDAYEVENT:FALSE
SUMMARY:MOMIX: ALCHEMIA
DESCRIPTION:Brilliant choreographer Moses Pendleton presents "Alchemia\," his new work for the dazzling dancer-illusionists of Momix. It's all about the art of alchemy\, and the alchemy of art. Pendleton’s latest creation is an enchanting\, phantasmagorical multimedia spectacle full of invention\, beauty\, sensuality and humor. Pendleton manipulates the four classic elements of earth\, air\, fire and water to produce a show full of aesthetic thrills\, surprising metamorphoses\, and the sexuality of nature itself. This is Momix at its most magical.\nContact :	Gallo Center\nPhone :	209-338-2100\nEmail :	\nWeb Site :	galloarts.org
X-ALT-DESC;FMTTYPE=text/html:Brilliant choreographer Moses Pendleton presents "Alchemia\," his new work for the dazzling dancer-illusionists of Momix. It's all about the art of alchemy\, and the alchemy of art. Pendleton’s latest creation is an enchanting\, phantasmagorical multimedia spectacle full of invention\, beauty\, sensuality and humor. Pendleton manipulates the four classic elements of earth\, air\, fire and water to produce a show full of aesthetic thrills\, surprising metamorphoses\, and the sexuality of nature itself. This is Momix at its most magical.\nContact :	Gallo Center\nPhone :	209-338-2100\nEmail :	\nWeb Site :	galloarts.org
LOCATION:Gallo Center 1000 I St Modesto\, CA 95354
UID:e.2695.1235
SEQUENCE:3
DTSTAMP:20260419T214756Z
URL:https://business.modchamber.org/events/details/momix-alchemia-10-18-2015-1235
END:VEVENT

END:VCALENDAR
