BEGIN:VCALENDAR
VERSION:2.0
PRODID:-//ChamberMaster//Event Calendar 2.0//EN
METHOD:PUBLISH
X-PUBLISHED-TTL:P3D
REFRESH-INTERVAL:P3D
CALSCALE:GREGORIAN
BEGIN:VEVENT
DTSTART:20151019T051800Z
DTEND:20151018T070000Z
X-MICROSOFT-CDO-ALLDAYEVENT:FALSE
SUMMARY:Modesto Women's Expo
DESCRIPTION:Spend a day with the girls that is ALL ABOUT the girls! \n\nGet health screenings\, enjoy massages\, beauty\, pampering\, get gorgeous\, watch the Vintage Faire Fashion Mall\, sample food and beverages with Save Mart Supermarkets and celebrate womanhood! \n\nVisit rows and rows of local businesses and providers and enjoy a day that is all about you!\n\nSpeakers for the day include:\nCathy Alessandra \nCaterina Rando \nLisa Cole \nTwyla Reece \nCarissa Phelps\nSusan Davis \nAmanda Hillsdale \nand many\, many more!\n\nYou will not want to miss this!\nContact :	\nPhone :	\nEmail :	\nWeb Site :	www.modestowomensexpo.com
X-ALT-DESC;FMTTYPE=text/html:Spend a day with the girls that is ALL ABOUT the girls! \n\nGet health screenings\, enjoy massages\, beauty\, pampering\, get gorgeous\, watch the Vintage Faire Fashion Mall\, sample food and beverages with Save Mart Supermarkets and celebrate womanhood! \n\nVisit rows and rows of local businesses and providers and enjoy a day that is all about you!\n\nSpeakers for the day include:\nCathy Alessandra \nCaterina Rando \nLisa Cole \nTwyla Reece \nCarissa Phelps\nSusan Davis \nAmanda Hillsdale \nand many\, many more!\n\nYou will not want to miss this!\nContact :	\nPhone :	\nEmail :	\nWeb Site :	www.modestowomensexpo.com
LOCATION:Centre Plaza 1000 L St Modesto\, CA 95354
UID:e.2695.1238
SEQUENCE:3
DTSTAMP:20260419T214808Z
URL:https://business.modchamber.org/events/details/modesto-women-s-expo-10-18-2015-1238
END:VEVENT

END:VCALENDAR
