BEGIN:VCALENDAR
VERSION:2.0
PRODID:-//ChamberMaster//Event Calendar 2.0//EN
METHOD:PUBLISH
X-PUBLISHED-TTL:P3D
REFRESH-INTERVAL:P3D
CALSCALE:GREGORIAN
BEGIN:VEVENT
DTSTART:20151017T180000Z
DTEND:20151018T000000Z
X-MICROSOFT-CDO-ALLDAYEVENT:FALSE
SUMMARY:Modesto Women's Expo
DESCRIPTION:Come and enjoy\nRelaxation • Pampering • Shopping • Fashion Shows • Guest Speakers • Beauty Services • Health Services • Demonstrations • Keynote Speakers\nAnd gain a day in your life that is solely about YOU! \n\nAs women we have many interests in family\, business\, relationships\, beauty\, self reflection\, personal growth\, health\, special intrigues that are specific to us\, as women. This event focuses on topics and interests that are all about being a woman.This is 31\,000 square feet of fun\, learning\, exploring\, relaxing and shopping for one full day!\n\nEnjoy three fashion shows throughout the day featuring Macy's West! \n\nEnjoy fashion shows throughout the day that include day\, evening\, and specialty wear.\nContact :	Modesto Women's Expo\nPhone :	(209) 966-3890\nEmail :	\nWeb Site :	www.modestowomensexpo.com
X-ALT-DESC;FMTTYPE=text/html:Come and enjoy\nRelaxation • Pampering • Shopping • Fashion Shows • Guest Speakers • Beauty Services • Health Services • Demonstrations • Keynote Speakers\nAnd gain a day in your life that is solely about YOU! \n\nAs women we have many interests in family\, business\, relationships\, beauty\, self reflection\, personal growth\, health\, special intrigues that are specific to us\, as women. This event focuses on topics and interests that are all about being a woman.This is 31\,000 square feet of fun\, learning\, exploring\, relaxing and shopping for one full day!\n\nEnjoy three fashion shows throughout the day featuring Macy's West! \n\nEnjoy fashion shows throughout the day that include day\, evening\, and specialty wear.\nContact :	Modesto Women's Expo\nPhone :	(209) 966-3890\nEmail :	\nWeb Site :	www.modestowomensexpo.com
LOCATION:Centre Plaza 1000 L St Modesto\, CA 95354
UID:e.2695.1101
SEQUENCE:3
DTSTAMP:20260419T230531Z
URL:https://business.modchamber.org/events/details/modesto-women-s-expo-10-17-2015-1101
END:VEVENT

END:VCALENDAR
