BEGIN:VCALENDAR
VERSION:2.0
PRODID:-//ChamberMaster//Event Calendar 2.0//EN
METHOD:PUBLISH
X-PUBLISHED-TTL:P3D
REFRESH-INTERVAL:P3D
CALSCALE:GREGORIAN
BEGIN:VEVENT
DTSTART;VALUE=DATE:20150410
DTEND;VALUE=DATE:20150413
TRANSP:TRANSPARENT
X-MICROSOFT-CDO-ALLDAYEVENT:TRUE
SUMMARY:Modesto Unplugged Music Festival
DESCRIPTION:Friday April 10-Sunday April 12\n\nModesto Unplugged Music Festival\n\nvarious downtown venues\n\n$50 Gold Passes available at any MUMF showcase or by\n\nemailing modestounplugged@yahoo.com or calling 209-543-5306\n\nThe Lineup:\n\nAmerican Nomad\nGlitter Rose\nThe Nickel Slots\nThe BluesBox Bayou Band\nHalfpence & Haypenny\nRandy Mandy Band\nChris Farris\nThe Hangover Brigade\nRozanne Gewaar\nColorado Road\nJakob's Ferry Stragglers\nSteep Ravine\nDawn Xiana Moon\nThe Keller Sisters\nValley Forged\nDoug Adamz\nMarc Berger\nVortex Tribe\nFrancesca Bavaro\nMary Bue\nand the Songwriting Finalist Revue\nContact : 	Modesto Unplugged Music Festival\nPhone : 	209-543-5306\nEmail : 	modestounplugged@yahoo.com\nWeb Site : 	www.modestounplugged.com
X-ALT-DESC;FMTTYPE=text/html:	Friday April 10-Sunday April 12\n\nModesto Unplugged Music Festival\n\nvarious downtown venues\n\n$50 Gold Passes available at any MUMF showcase or by\n\nemailing modestounplugged@yahoo.com or calling 209-543-5306\n\nThe Lineup:\n\nAmerican Nomad\nGlitter Rose\nThe Nickel Slots\nThe BluesBox Bayou Band\nHalfpence & Haypenny\nRandy Mandy Band\nChris Farris\nThe Hangover Brigade\nRozanne Gewaar\nColorado Road\nJakob's Ferry Stragglers\nSteep Ravine\nDawn Xiana Moon\nThe Keller Sisters\nValley Forged\nDoug Adamz\nMarc Berger\nVortex Tribe\nFrancesca Bavaro\nMary Bue\nand the Songwriting Finalist Revue\nContact : 	Modesto Unplugged Music Festival\nPhone : 	209-543-5306\nEmail : 	modestounplugged@yahoo.com\nWeb Site : 	www.modestounplugged.com
LOCATION:Various Modesto Locations
UID:e.2695.853
SEQUENCE:3
DTSTAMP:20260420T063232Z
URL:https://business.modchamber.org/events/details/modesto-unplugged-music-festival-04-10-2015-853
END:VEVENT

END:VCALENDAR
