BEGIN:VCALENDAR
VERSION:2.0
PRODID:-//ChamberMaster//Event Calendar 2.0//EN
METHOD:PUBLISH
X-PUBLISHED-TTL:P3D
REFRESH-INTERVAL:P3D
CALSCALE:GREGORIAN
BEGIN:VEVENT
DTSTART:20150329T003000Z
DTEND:20150328T070000Z
X-MICROSOFT-CDO-ALLDAYEVENT:FALSE
SUMMARY:Modesto Symphony Youth Orchestra's Fundraiser
DESCRIPTION:Please join us at our fourth annual STRINGS: Spaghetti & Symphony fundraiser to benefit the Modesto Symphony Youth Orchestra! Join us for an entertaining evening of live music from our MSYO musicians\, silent and dessert auctions\, raffle and fabulous pasta dinner!\n\nThis unique event is our major fundraiser of the season! It will include music performances by our own youth orchestra musicians\, dessert auction\, silent auction and a fabulous pasta dinner!\nContact :	Modesto Symphony Orchestra\nPhone :	209.523.4156\nEmail :	\nWeb Site :
X-ALT-DESC;FMTTYPE=text/html:Please join us at our fourth annual STRINGS: Spaghetti & Symphony fundraiser to benefit the Modesto Symphony Youth Orchestra! Join us for an entertaining evening of live music from our MSYO musicians\, silent and dessert auctions\, raffle and fabulous pasta dinner!\n\nThis unique event is our major fundraiser of the season! It will include music performances by our own youth orchestra musicians\, dessert auction\, silent auction and a fabulous pasta dinner!\nContact :	Modesto Symphony Orchestra\nPhone :	209.523.4156\nEmail :	\nWeb Site :
LOCATION:Charity Ballroom - Elks Lodge 645 Charity Way Modesto\, CA 95356
UID:e.2695.825
SEQUENCE:3
DTSTAMP:20260420T074057Z
URL:https://business.modchamber.org/events/details/modesto-symphony-youth-orchestra-s-fundraiser-03-28-2015-825
END:VEVENT

END:VCALENDAR
