BEGIN:VCALENDAR
VERSION:2.0
PRODID:-//ChamberMaster//Event Calendar 2.0//EN
METHOD:PUBLISH
X-PUBLISHED-TTL:P3D
REFRESH-INTERVAL:P3D
CALSCALE:GREGORIAN
BEGIN:VEVENT
DTSTART:20150516T220000Z
DTEND:20150516T070000Z
X-MICROSOFT-CDO-ALLDAYEVENT:FALSE
SUMMARY:Modesto Symphony Youth Orchestra - FINALE CONCERT
DESCRIPTION:Modesto Symphony Youth Orchestra\nRyan Murray\, conductor\nSymphony Orchestra\n\nDonald C. Grishaw\, conductor\nConcert Orchestra\n\nFeaturing the winner of the 2014/15 MSYO Concerto Competition\n\nProgram\n\nEnjoy an afternoon of orchestral fireworks and solo performances by some of the finest youth musicians in our community including our 2015 Concerto Competition winners. The Modesto Symphony Youth Orchestra serves nearly 120 student musicians and their families from over forty public and private schools in the Central Valley. Join them in the concert hall for an exciting finale to their 38th Season!\nContact :	Gallo Center\nPhone :	209-338-2100\nEmail :	\nWeb Site :	galloarts.org
X-ALT-DESC;FMTTYPE=text/html:	Modesto Symphony Youth Orchestra\nRyan Murray\, conductor\nSymphony Orchestra\n\nDonald C. Grishaw\, conductor\nConcert Orchestra\n\nFeaturing the winner of the 2014/15 MSYO Concerto Competition\n\nProgram\n\nEnjoy an afternoon of orchestral fireworks and solo performances by some of the finest youth musicians in our community including our 2015 Concerto Competition winners. The Modesto Symphony Youth Orchestra serves nearly 120 student musicians and their families from over forty public and private schools in the Central Valley. Join them in the concert hall for an exciting finale to their 38th Season!\nContact :	Gallo Center\nPhone :	209-338-2100\nEmail :	\nWeb Site :	galloarts.org
LOCATION:Gallo Center 1000 I St Modesto\, CA 95354
UID:e.2695.938
SEQUENCE:3
DTSTAMP:20260420T045805Z
URL:https://business.modchamber.org/events/details/modesto-symphony-youth-orchestra-finale-concert-05-16-2015-938
END:VEVENT

END:VCALENDAR
