BEGIN:VCALENDAR
VERSION:2.0
PRODID:-//ChamberMaster//Event Calendar 2.0//EN
METHOD:PUBLISH
X-PUBLISHED-TTL:P3D
REFRESH-INTERVAL:P3D
CALSCALE:GREGORIAN
BEGIN:VEVENT
DTSTART;VALUE=DATE:20151114
DTEND;VALUE=DATE:20151115
TRANSP:TRANSPARENT
X-MICROSOFT-CDO-ALLDAYEVENT:TRUE
SUMMARY:Modesto Symphony Orchestra's 85th Birthday
DESCRIPTION:Join the Modesto Symphony Orchestra for their 85th Birthday Celebration!\n\nAn evening of dancing and dinner!\n\nTickets starting at $150.00\nContact :	Modesto Symphony Orchestra\nPhone :	\nEmail :	\nWeb Site :	www.modestosymphony.org
X-ALT-DESC;FMTTYPE=text/html:Join the Modesto Symphony Orchestra for their 85th Birthday Celebration!\n\nAn evening of dancing and dinner!\n\nTickets starting at $150.00\nContact :	Modesto Symphony Orchestra\nPhone :	\nEmail :	\nWeb Site :	www.modestosymphony.org
LOCATION:Gallo Administration Building 743 Yosemite Blvd Modesto\, CA 95354
UID:e.2695.1264
SEQUENCE:3
DTSTAMP:20260419T203646Z
URL:https://business.modchamber.org/events/details/modesto-symphony-orchestra-s-85th-birthday-11-14-2015-1264
END:VEVENT

END:VCALENDAR
