BEGIN:VCALENDAR
VERSION:2.0
PRODID:-//ChamberMaster//Event Calendar 2.0//EN
METHOD:PUBLISH
X-PUBLISHED-TTL:P3D
REFRESH-INTERVAL:P3D
CALSCALE:GREGORIAN
BEGIN:VEVENT
DTSTART:20150308T020000Z
DTEND:20150308T050000Z
X-MICROSOFT-CDO-ALLDAYEVENT:FALSE
SUMMARY:Modesto Sunrise Rotary 22nd Bacchus & Brew
DESCRIPTION:Join Modesto Sunrise Rotary for their Irish Themed Bacchus and Brew event which benefits many local service projects in the community. There will be plenty of fun to be made with a casino night\, music\, silent auction & live auction. Hors d’ Oeuvres\, beer and wine sampling all happening for your entertainment. Tickets are $25.\nContact :	\nPhone :	209-613-9498\nEmail :	\nWeb Site :	www.modestosunriserotary.org
X-ALT-DESC;FMTTYPE=text/html:	Join Modesto Sunrise Rotary for their Irish Themed Bacchus and Brew event which benefits many local service projects in the community. There will be plenty of fun to be made with a casino night\, music\, silent auction & live auction. Hors d’ Oeuvres\, beer and wine sampling all happening for your entertainment. Tickets are $25.\nContact :	\nPhone :	209-613-9498\nEmail :	\nWeb Site :	www.modestosunriserotary.org
LOCATION:Martin G. Peterson Event Center 720 12th Street Modesto\, CA 95354
UID:e.2695.784
SEQUENCE:3
DTSTAMP:20260420T074054Z
URL:https://business.modchamber.org/events/details/modesto-sunrise-rotary-22nd-bacchus-brew-03-07-2015-784
END:VEVENT

END:VCALENDAR
