BEGIN:VCALENDAR
VERSION:2.0
PRODID:-//ChamberMaster//Event Calendar 2.0//EN
METHOD:PUBLISH
X-PUBLISHED-TTL:P3D
REFRESH-INTERVAL:P3D
CALSCALE:GREGORIAN
BEGIN:VEVENT
DTSTART:20160521T130000Z
DTEND:20160521T230000Z
X-MICROSOFT-CDO-ALLDAYEVENT:FALSE
SUMMARY:MODESTO'S DOWNTOWN CRITERIUM
DESCRIPTION:The Modesto Criterium\, promoted by Ciccarelli Enterprises\, features fast-paced racing throughout downtown Modesto. The Criterium races begin and end on the corner of 13th Street and I Streets. Pro races run at various times throughout the day. Registration closes 20 minutes prior to scheduled start of each race. Criterium sign up booth will be at 13th and I Sts. Parent or guardian must be present for child to participate in races and helmets are required.\nContact : 	P.J. Ciccarelli\nPhone : 	209-606-6414\nEmail : 	\nWeb Site :
X-ALT-DESC;FMTTYPE=text/html:The Modesto Criterium\, promoted by Ciccarelli Enterprises\, features fast-paced racing throughout downtown Modesto. The Criterium races begin and end on the corner of 13th Street and I Streets. Pro races run at various times throughout the day. Registration closes 20 minutes prior to scheduled start of each race. Criterium sign up booth will be at 13th and I Sts. Parent or guardian must be present for child to participate in races and helmets are required.\nContact : 	P.J. Ciccarelli\nPhone : 	209-606-6414\nEmail : 	\nWeb Site :
LOCATION:Downtown Modesto Between 12th and 14th / "H" and "J" Street Modesto\, CA 95354
UID:e.2695.1645
SEQUENCE:3
DTSTAMP:20260419T124857Z
URL:https://business.modchamber.org/events/details/modesto-s-downtown-criterium-05-21-2016-1645
END:VEVENT

END:VCALENDAR
