BEGIN:VCALENDAR
VERSION:2.0
PRODID:-//ChamberMaster//Event Calendar 2.0//EN
METHOD:PUBLISH
X-PUBLISHED-TTL:P3D
REFRESH-INTERVAL:P3D
CALSCALE:GREGORIAN
BEGIN:VEVENT
DTSTART:20150911T144500Z
DTEND:20150911T070000Z
X-MICROSOFT-CDO-ALLDAYEVENT:FALSE
SUMMARY:Modesto Rotary's 24th Annual Senior Stride
DESCRIPTION:This events provides seniors the opportunity to enjoy fellowship\, a fun walk\, entertainment and more while learning about services available to them in our community.\n\n7:45am Registration\n9:00am Walk Begins\nPost Walk - Breakfast\, Ceremonies\, Entertainment\, Prize Drawings\, etc.\nContact :	Modesto Rotary Club\nPhone :	209-578-9999\nEmail :	\nWeb Site :	www.modestorotary.org
X-ALT-DESC;FMTTYPE=text/html:	This events provides seniors the opportunity to enjoy fellowship\, a fun walk\, entertainment and more while learning about services available to them in our community.\n\n7:45am Registration\n9:00am Walk Begins\nPost Walk - Breakfast\, Ceremonies\, Entertainment\, Prize Drawings\, etc.\nContact :	Modesto Rotary Club\nPhone :	209-578-9999\nEmail :	\nWeb Site :	www.modestorotary.org
LOCATION:East La Loma Park 2001 Edgebrook Dr Modesto\, CA 95354
UID:e.2695.1150
SEQUENCE:3
DTSTAMP:20260419T231912Z
URL:https://business.modchamber.org/events/details/modesto-rotary-s-24th-annual-senior-stride-09-11-2015-1150
END:VEVENT

END:VCALENDAR
