BEGIN:VCALENDAR
VERSION:2.0
PRODID:-//ChamberMaster//Event Calendar 2.0//EN
METHOD:PUBLISH
X-PUBLISHED-TTL:P3D
REFRESH-INTERVAL:P3D
CALSCALE:GREGORIAN
BEGIN:VEVENT
DTSTART:20150417T020500Z
DTEND:20150416T070000Z
X-MICROSOFT-CDO-ALLDAYEVENT:FALSE
SUMMARY:Modesto Nuts Home Opener
DESCRIPTION:Modesto Nut's Opening Night\nContact : 	Modesto Nuts\nPhone : 	(209) 572-4487
X-ALT-DESC;FMTTYPE=text/html:	Modesto Nut's Opening Night\nContact : 	Modesto Nuts\nPhone : 	(209) 572-4487
LOCATION:John Thurman Field 601 Neece Dr Modesto\, CA 95351
UID:e.2695.866
SEQUENCE:3
DTSTAMP:20260420T062753Z
URL:https://business.modchamber.org/events/details/modesto-nuts-home-opener-04-16-2015-866
END:VEVENT

END:VCALENDAR
