BEGIN:VCALENDAR
VERSION:2.0
PRODID:-//ChamberMaster//Event Calendar 2.0//EN
METHOD:PUBLISH
X-PUBLISHED-TTL:P3D
REFRESH-INTERVAL:P3D
CALSCALE:GREGORIAN
BEGIN:VEVENT
DTSTART:20160415T020500Z
DTEND:20160414T070000Z
X-MICROSOFT-CDO-ALLDAYEVENT:FALSE
SUMMARY:MODESTO NUTS HOME OPENER
DESCRIPTION:Modesto Nut's Opening Night\n\nNuts vs. Stockton Ports\nContact :	Modesto Nuts\nPhone :	(209) 572-4487\nEmail :	\nWeb Site :
X-ALT-DESC;FMTTYPE=text/html:Modesto Nut's Opening Night\n\nNuts vs. Stockton Ports\nContact :	Modesto Nuts\nPhone :	(209) 572-4487\nEmail :	\nWeb Site :	
LOCATION:John Thurman Field 601 Neece Drive Modesto\, CA 95351
UID:e.2695.1479
SEQUENCE:3
DTSTAMP:20260419T140913Z
URL:https://business.modchamber.org/events/details/modesto-nuts-home-opener-04-14-2016-1479
END:VEVENT

END:VCALENDAR
