BEGIN:VCALENDAR
VERSION:2.0
PRODID:-//ChamberMaster//Event Calendar 2.0//EN
METHOD:PUBLISH
X-PUBLISHED-TTL:P3D
REFRESH-INTERVAL:P3D
CALSCALE:GREGORIAN
BEGIN:VEVENT
DTSTART:20160528T140000Z
DTEND:20160528T070000Z
X-MICROSOFT-CDO-ALLDAYEVENT:FALSE
SUMMARY:Modesto Memorial Classic - 1 Mile/5K Run & Walk
DESCRIPTION:Entry fee includes a pancake breakfast prepared by the Modesto Vet Center.\n\nPrize money(5K only) to top 3 overall male and female runners and top 2 male and female master (40 years and older) runners. (Only one prize per runner.) Bonus to first male and female to break the overall 5K course records (14:42-17:17). Medals 3 deep (10-year age groups) in 1 mile. Medals 3 deep (5-year age groups) in 5K.\n\nA fast\, shady course following the shores of Dry Creek. Great for PRs. 5K course is certified. The 1-mile is walker friendly. Tech t-shirts guaranteed to pre-registered only.\n\nA FREE Kids Run (10 and Under) will follow the 5K. Race day registration only.\n\nEvent details and schedule\n7:00 am Race day registration\n\n8:00 am 1 Mile Run/Walk\n\n8:45 am 5K Run/Walk\n\n10:00 am FREE Kids Fun Run (10 & under)\n\n10:15 am (approx) Ceremony and awards\nContact : 	\nPhone : 	\nEmail : 	\nWeb Site : 	www.active.com/modesto-ca/running/distance-running-races/modesto-memorial-classic-2016
X-ALT-DESC;FMTTYPE=text/html:Entry fee includes a pancake breakfast prepared by the Modesto Vet Center.\n\nPrize money(5K only) to top 3 overall male and female runners and top 2 male and female master (40 years and older) runners. (Only one prize per runner.) Bonus to first male and female to break the overall 5K course records (14:42-17:17). Medals 3 deep (10-year age groups) in 1 mile. Medals 3 deep (5-year age groups) in 5K.\n\nA fast\, shady course following the shores of Dry Creek. Great for PRs. 5K course is certified. The 1-mile is walker friendly. Tech t-shirts guaranteed to pre-registered only.\n\nA FREE Kids Run (10 and Under) will follow the 5K. Race day registration only.\n\nEvent details and schedule\n7:00 am Race day registration\n\n8:00 am 1 Mile Run/Walk\n\n8:45 am 5K Run/Walk\n\n10:00 am FREE Kids Fun Run (10 & under)\n\n10:15 am (approx) Ceremony and awards\nContact : 	\nPhone : 	\nEmail : 	\nWeb Site : 	www.active.com/modesto-ca/running/distance-running-races/modesto-memorial-classic-2016\n\n
LOCATION:Tuolumne River Regional Park 1128 Tioga Road Modesto\, CA 95353
UID:e.2695.1646
SEQUENCE:3
DTSTAMP:20260419T141247Z
URL:https://business.modchamber.org/events/details/modesto-memorial-classic-1-mile-5k-run-walk-05-28-2016-1646
END:VEVENT

END:VCALENDAR
