BEGIN:VCALENDAR
VERSION:2.0
PRODID:-//ChamberMaster//Event Calendar 2.0//EN
METHOD:PUBLISH
X-PUBLISHED-TTL:P3D
REFRESH-INTERVAL:P3D
CALSCALE:GREGORIAN
BEGIN:VEVENT
DTSTART:20150523T140000Z
DTEND:20150523T070000Z
X-MICROSOFT-CDO-ALLDAYEVENT:FALSE
SUMMARY:Modesto Memorial Classic - 1 Mile / 5K Run & Walk
DESCRIPTION:The Modesto Memorial Classic features a walker friendly 1-mile course and a 5k-course\, plus a free kids' fun run\, post-race goodies and raffle\, The event supports local veterans and the Modesto Vet Center.\nContact :	\nPhone :	\nEmail :	\nWeb Site :	www.shadowchase.org
X-ALT-DESC;FMTTYPE=text/html:	The Modesto Memorial Classic features a walker friendly 1-mile course and a 5k-course\, plus a free kids' fun run\, post-race goodies and raffle\, The event supports local veterans and the Modesto Vet Center.\nContact :	\nPhone :	\nEmail :	\nWeb Site :	www.shadowchase.org
LOCATION:Tuolumne River Lodge 1198 Tioga Dr Modesto\, CA 95351
UID:e.2695.944
SEQUENCE:3
DTSTAMP:20260420T045749Z
URL:https://business.modchamber.org/events/details/modesto-memorial-classic-1-mile-5k-run-walk-05-23-2015-944
END:VEVENT

END:VCALENDAR
