BEGIN:VCALENDAR
VERSION:2.0
PRODID:-//ChamberMaster//Event Calendar 2.0//EN
METHOD:PUBLISH
X-PUBLISHED-TTL:P3D
REFRESH-INTERVAL:P3D
CALSCALE:GREGORIAN
BEGIN:VEVENT
DTSTART:20150328T170000Z
DTEND:20150329T010000Z
X-MICROSOFT-CDO-ALLDAYEVENT:FALSE
SUMMARY:Modesto Marathon Expo
DESCRIPTION:Avoid last-minute congestion by attending the Surgical Artistry Modesto Marathon Expo featuring race packet pick-up for all races.\n\nThe SAMM Expo is FREE and open to the public. This year’s Expo will feature vendor booths and race-related information.\nContact :	\nPhone :	\nEmail :	\nWeb Site :	www.modestomarathon.com
X-ALT-DESC;FMTTYPE=text/html:Avoid last-minute congestion by attending the Surgical Artistry Modesto Marathon Expo featuring race packet pick-up for all races.\n\nThe SAMM Expo is FREE and open to the public. This year’s Expo will feature vendor booths and race-related information.\nContact :	\nPhone :	\nEmail :	\nWeb Site :	www.modestomarathon.com	
LOCATION:Centre Plaza 1000 L Street Modesto\, CA 95354
UID:e.2695.826
SEQUENCE:3
DTSTAMP:20260420T073858Z
URL:https://business.modchamber.org/events/details/modesto-marathon-expo-03-28-2015-826
END:VEVENT

END:VCALENDAR
