BEGIN:VCALENDAR
VERSION:2.0
PRODID:-//ChamberMaster//Event Calendar 2.0//EN
METHOD:PUBLISH
X-PUBLISHED-TTL:P3D
REFRESH-INTERVAL:P3D
CALSCALE:GREGORIAN
BEGIN:VEVENT
DTSTART;VALUE=DATE:20150925
DTEND;VALUE=DATE:20150928
TRANSP:TRANSPARENT
X-MICROSOFT-CDO-ALLDAYEVENT:TRUE
SUMMARY:Modesto Home Improvement Show
DESCRIPTION:Friday 12 - 6pm\nSaturday & Sunday 10 - 5pm\n\nThe Modesto Home Improvement Show offers homeowners and future homeowners the opportunity to visit several vendors in one place at one time. Guests can visit vendors and get tips and new ideas to help improve and beautify their homes and yards.\n\nOur Modesto show is jam packed with fun features. We have our Food Truck Wars which gives show goers a chance to try several gourmet food trucks and fun activities for the kids provided by the Macaroni Kids.\n\n$3 general admission. Senior Citizens $2 on Friday.\nContact :	Home Improvement Show\nPhone :	\nEmail :	\nWeb Site :	www.metroexpositions.com
X-ALT-DESC;FMTTYPE=text/html:Friday 12 - 6pm\nSaturday & Sunday 10 - 5pm\n\nThe Modesto Home Improvement Show offers homeowners and future homeowners the opportunity to visit several vendors in one place at one time. Guests can visit vendors and get tips and new ideas to help improve and beautify their homes and yards.\n\nOur Modesto show is jam packed with fun features. We have our Food Truck Wars which gives show goers a chance to try several gourmet food trucks and fun activities for the kids provided by the Macaroni Kids.\n\n$3 general admission. Senior Citizens $2 on Friday.\nContact :	Home Improvement Show\nPhone :	\nEmail :	\nWeb Site :	www.metroexpositions.com
LOCATION:Centre Plaza 1000 L St Modesto\, CA 95354
UID:e.2695.1077
SEQUENCE:3
DTSTAMP:20260419T231639Z
URL:https://business.modchamber.org/events/details/modesto-home-improvement-show-09-25-2015-1077
END:VEVENT

END:VCALENDAR
