BEGIN:VCALENDAR
VERSION:2.0
PRODID:-//ChamberMaster//Event Calendar 2.0//EN
METHOD:PUBLISH
X-PUBLISHED-TTL:P3D
REFRESH-INTERVAL:P3D
CALSCALE:GREGORIAN
BEGIN:VEVENT
DTSTART:20140801T190000Z
DTEND:20140804T065900Z
X-MICROSOFT-CDO-ALLDAYEVENT:FALSE
SUMMARY:Modesto Grand Prix
DESCRIPTION:Superkarts! USA will be bringing the nation’s largest professional kart racing series to Modesto California for the 2014 Modesto Grand Prix. The past\, present\, and future stars of professional motorsport will  be on hand to race wheel to wheel in downtown city streets.
X-ALT-DESC;FMTTYPE=text/html:<P>Superkarts! USA will be bringing the nation’s </P><P>largest professional kart racing series to </P><P>Modesto California for the 2014 Modesto </P><P>Grand Prix. The past\, present\, and future stars </P><P>of professional motorsport will&nbsp\; be on hand to</P><P>&nbsp\;race wheel to wheel in downtown city streets. </P>
LOCATION:Downtown Modesto
UID:e.2695.512
SEQUENCE:3
DTSTAMP:20260422T193929Z
URL:https://business.modchamber.org/events/details/modesto-grand-prix-08-01-2014-512
END:VEVENT

END:VCALENDAR
