BEGIN:VCALENDAR
VERSION:2.0
PRODID:-//ChamberMaster//Event Calendar 2.0//EN
METHOD:PUBLISH
X-PUBLISHED-TTL:P3D
REFRESH-INTERVAL:P3D
CALSCALE:GREGORIAN
BEGIN:VEVENT
DTSTART:20160416T160000Z
DTEND:20160416T230000Z
X-MICROSOFT-CDO-ALLDAYEVENT:FALSE
SUMMARY:Modesto Garden Club's Spring Garden Tour
DESCRIPTION:Since 1932\, the Modesto Garden Club has annually hosted the Spring Garden Tour in the Modesto area as our major fundraiser for the many civic programs this garden club supports\, including community gardening projects\, Virginia Corridor Memorial Rose Garden\, the Modesto Flower Clock and downtown pots\, therapeutic gardens\, scholarships and more.\n\n\nThis year\, seven incredible homes have been chosen for the tour.\nTour goers will find an eclectic mix from country to modern.The club office and demonstration gardens are also open that day.\n\nTickets $20.00\nTicket locations: Crow Trading Company\, Marcy's Hallmark Shop\, McHenry Mansion's Gift Shop & Westurf Nursery.\nContact : 	Modesto Garden Club\nPhone : 	209-529-7360\nEmail : 	\nWeb Site : 	www.modestogardenclub.org
X-ALT-DESC;FMTTYPE=text/html:Since 1932\, the Modesto Garden Club has annually hosted the Spring Garden Tour in the Modesto area as our major fundraiser for the many civic programs this garden club supports\, including community gardening projects\, Virginia Corridor Memorial Rose Garden\, the Modesto Flower Clock and downtown pots\, therapeutic gardens\, scholarships and more.\n\n\nThis year\, seven incredible homes have been chosen for the tour.\nTour goers will find an eclectic mix from country to modern.The club office and demonstration gardens are also open that day.\n\nTickets $20.00\nTicket locations: Crow Trading Company\, Marcy's Hallmark Shop\, McHenry Mansion's Gift Shop & Westurf Nursery.\nContact : 	Modesto Garden Club\nPhone : 	209-529-7360\nEmail : 	\nWeb Site : 	www.modestogardenclub.org
LOCATION:Various Garden's in Modesto
UID:e.2695.1614
SEQUENCE:3
DTSTAMP:20260419T141410Z
URL:https://business.modchamber.org/events/details/modesto-garden-club-s-spring-garden-tour-04-16-2016-1614
END:VEVENT

END:VCALENDAR
