BEGIN:VCALENDAR
VERSION:2.0
PRODID:-//ChamberMaster//Event Calendar 2.0//EN
METHOD:PUBLISH
X-PUBLISHED-TTL:P3D
REFRESH-INTERVAL:P3D
CALSCALE:GREGORIAN
BEGIN:VEVENT
DTSTART:20150801T180000Z
DTEND:20150801T070000Z
X-MICROSOFT-CDO-ALLDAYEVENT:FALSE
SUMMARY:Modesto Fiji Festival
DESCRIPTION:There will also be food vendors and retail vendors with tons of goods for sale. When the sun sets the Tiki Torches will come out to bring the island feel alive. Enjoy yourself and dance the night away under the beautiful stars with a live DJ. The younger crowed will have the Ferris wheel and the carnival games to enjoy all night long.\nContact :	Sal or Tom\nPhone :	209-495-7031 or 209-602-9644\nEmail :	\nWeb Site :	modestofijifestival.com
X-ALT-DESC;FMTTYPE=text/html:There will also be food vendors and retail vendors with tons of goods for sale. When the sun sets the Tiki Torches will come out to bring the island feel alive. Enjoy yourself and dance the night away under the beautiful stars with a live DJ. The younger crowed will have the Ferris wheel and the carnival games to enjoy all night long.\nContact :	Sal or Tom\nPhone :	209-495-7031 or 209-602-9644\nEmail :	\nWeb Site :	modestofijifestival.com
LOCATION:Modesto Christian High School 5901 Sisk Rd Modesto\, CA 95356
UID:e.2695.1045
SEQUENCE:3
DTSTAMP:20260420T003341Z
URL:https://business.modchamber.org/events/details/modesto-fiji-festival-08-01-2015-1045
END:VEVENT

END:VCALENDAR
