BEGIN:VCALENDAR
VERSION:2.0
PRODID:-//ChamberMaster//Event Calendar 2.0//EN
METHOD:PUBLISH
X-PUBLISHED-TTL:P3D
REFRESH-INTERVAL:P3D
CALSCALE:GREGORIAN
BEGIN:VEVENT
DTSTART:20160326T140000Z
DTEND:20160326T200000Z
X-MICROSOFT-CDO-ALLDAYEVENT:FALSE
SUMMARY:MODESTO FARMER’S MARKET EASTER CELEBRATION
DESCRIPTION:Easter egg hunt\, prize baskets\, Easter crafts\, photos with the Easter Bunny & live music. Free event.\nContact : 	\nPhone : 	209-605-8536\nEmail : 	\nWeb Site :
X-ALT-DESC;FMTTYPE=text/html:Easter egg hunt\, prize baskets\, Easter crafts\, photos with the Easter Bunny & live music. Free event.\nContact : 	\nPhone : 	209-605-8536\nEmail : 	\nWeb Site :
LOCATION:Downtown Modesto 16th Street between H & I Street Modesto\, CA 95354
UID:e.2695.1602
SEQUENCE:3
DTSTAMP:20260419T153740Z
URL:https://business.modchamber.org/events/details/modesto-farmer-s-market-easter-celebration-03-26-2016-1602
END:VEVENT

END:VCALENDAR
