BEGIN:VCALENDAR
VERSION:2.0
PRODID:-//ChamberMaster//Event Calendar 2.0//EN
METHOD:PUBLISH
X-PUBLISHED-TTL:P3D
REFRESH-INTERVAL:P3D
CALSCALE:GREGORIAN
BEGIN:VEVENT
DTSTART:20160430T170000Z
DTEND:20160430T070000Z
X-MICROSOFT-CDO-ALLDAYEVENT:FALSE
SUMMARY:MODESTO CROP HUNGER WALK
DESCRIPTION:CROP Hunger Walks are community-wide events sponsored by Church World Service and organized by local congregations or groups to raise funds to end hunger at home and around the world.\nContact : 	Rev Dave Warner\nPhone : 	\nEmail : 	revdwarner@sbcglobal.com\nWeb Site : 	www.crophungerwalk.org
X-ALT-DESC;FMTTYPE=text/html:CROP Hunger Walks are community-wide events sponsored by Church World Service and organized by local congregations or groups to raise funds to end hunger at home and around the world.\nContact : 	Rev Dave Warner\nPhone : 	\nEmail : 	revdwarner@sbcglobal.com\nWeb Site : 	www.crophungerwalk.org\n\n
LOCATION:Geneva Presbyterian Church 1229 E. Fairmont Ave. Modesto\, CA 95350
UID:e.2695.1631
SEQUENCE:3
DTSTAMP:20260419T140913Z
URL:https://business.modchamber.org/events/details/modesto-crop-hunger-walk-04-30-2016-1631
END:VEVENT

END:VCALENDAR
