BEGIN:VCALENDAR
VERSION:2.0
PRODID:-//ChamberMaster//Event Calendar 2.0//EN
METHOD:PUBLISH
X-PUBLISHED-TTL:P3D
REFRESH-INTERVAL:P3D
CALSCALE:GREGORIAN
BEGIN:VEVENT
DTSTART:20150322T220000Z
DTEND:20150322T070000Z
X-MICROSOFT-CDO-ALLDAYEVENT:FALSE
SUMMARY:Modesto Community Concert Assoc. - Aaron Meyer
DESCRIPTION:Concert rock violinist Aaron Meyer performs cutting edge original music and arrangements with virtuosity and passion. His fresh\, invigorating instrumental style connects with audiences of all ages\, bridging world music\, contemporary progressive rock\, and classical genres. A classically trained violinist since age five\, Meyer debuted with the Philadelphia Orchestra at age 11\, and has soloed with major international symphony orchestras and ballet companies. He also has worked with vastly contrasting artists such as Pink Martini\, Smokey Robinson\, Aaron Neville\, The Temptations\, and the platinum record-selling band\, Everclear.\nContact :	Gallo Center\nPhone :	209-338-2100\nEmail :	\nWeb Site :	galloarts.org
X-ALT-DESC;FMTTYPE=text/html:	\nConcert rock violinist Aaron Meyer performs cutting edge original music and arrangements with virtuosity and passion. His fresh\, invigorating instrumental style connects with audiences of all ages\, bridging world music\, contemporary progressive rock\, and classical genres. A classically trained violinist since age five\, Meyer debuted with the Philadelphia Orchestra at age 11\, and has soloed with major international symphony orchestras and ballet companies. He also has worked with vastly contrasting artists such as Pink Martini\, Smokey Robinson\, Aaron Neville\, The Temptations\, and the platinum record-selling band\, Everclear.\nContact :	Gallo Center\nPhone :	209-338-2100\nEmail :	\nWeb Site :	galloarts.org
LOCATION:Gallo Center 1000 I Street Modesto\, CA 95354
UID:e.2695.818
SEQUENCE:3
DTSTAMP:20260420T074019Z
URL:https://business.modchamber.org/events/details/modesto-community-concert-assoc-aaron-meyer-03-22-2015-818
END:VEVENT

END:VCALENDAR
