BEGIN:VCALENDAR
VERSION:2.0
PRODID:-//ChamberMaster//Event Calendar 2.0//EN
METHOD:PUBLISH
X-PUBLISHED-TTL:P3D
REFRESH-INTERVAL:P3D
CALSCALE:GREGORIAN
BEGIN:VEVENT
DTSTART:20140709T003000Z
DTEND:20140708T070000Z
X-MICROSOFT-CDO-ALLDAYEVENT:FALSE
SUMMARY:Modesto City Council Meeting
DESCRIPTION:The Modesto City Council is the City?s legislative body. It sets policies\, approves budgets\, determines tax rates and passes ordinances and resolutions to govern the City. Council also appoints citizen volunteers to more than 26 City advisory boards\, committees\, and commissions\; and appoints and supervises the performance of the City Manager\, City Attorney and City Clerk.\n\nCity Council meets in formal session on the first\, second and fourth Tuesday of each month at 5:30 p.m. at 1010 Tenth Street\, Lower Level. Meetings are not held on the third or fifth Tuesday\, unless a special meeting is called by the Council. All City Council meetings are open to the public\, except portions of meetings in which legal\, land acquisition or personnel matters are discussed.
X-ALT-DESC;FMTTYPE=text/html:The Modesto City Council is the City?s legislative body. It sets policies\, approves budgets\, determines tax rates and passes ordinances and resolutions to govern the City. Council also appoints citizen volunteers to more than 26 City advisory boards\, committees\, and commissions\; and appoints and supervises the performance of the City Manager\, City Attorney and City Clerk.\n\nCity Council meets in formal session on the first\, second and fourth Tuesday of each month at 5:30 p.m. at 1010 Tenth Street\, Lower Level. Meetings are not held on the third or fifth Tuesday\, unless a special meeting is called by the Council. All City Council meetings are open to the public\, except portions of meetings in which legal\, land acquisition or personnel matters are discussed.
LOCATION:City of Modesto Chambers 1010 10th Street\, Suite 6500 Modesto\, CA 95354
UID:e.2695.447
SEQUENCE:3
DTSTAMP:20260422T224601Z
URL:https://business.modchamber.org/events/details/modesto-city-council-meeting-07-08-2014-447
END:VEVENT

END:VCALENDAR
